

BEGIN:VCALENDAR
VERSION:2.0
BEGIN:VEVENT
SUMMARY:Car Show
DTSTART;TZID=:20260517T090000
DTEND;TZID=:20260517T150000
DESCRIPTION:
LOCATION:Florence, CO 24th Annual Car Show
END:VEVENT
END:VCALENDAR

